BEGIN:VCALENDAR
VERSION:2.0
PRODID:-//Squarespace Inc/Squarespace 6//v6//EN
BEGIN:VEVENT
UID:5f8e32c1d788cc7fb9c51896@squarespace.com
DTSTAMP:20201112T230418Z
DTSTART:20201201T000000Z
DTEND:20201201T004000Z
SUMMARY:Discovery Beans - Sitting Babies to Walkers
END:VEVENT
END:VCALENDAR
