BEGIN:VCALENDAR
VERSION:2.0
PRODID:-//Squarespace Inc/Squarespace 6//v6//EN
BEGIN:VEVENT
UID:5f8e32e2f11ecf3c58d56cda@squarespace.com
DTSTAMP:20201112T230718Z
DTSTART:20201208T000000Z
DTEND:20201208T004000Z
SUMMARY:Discovery Beans - Sitting Babies to Walkers
END:VEVENT
END:VCALENDAR
