BEGIN:VCALENDAR
VERSION:2.0
PRODID:-//Squarespace Inc/Squarespace 6//v6//EN
BEGIN:VEVENT
UID:5f8e3306c9e1691d59d3021c@squarespace.com
DTSTAMP:20201112T231055Z
DTSTART:20201215T000000Z
DTEND:20201215T004000Z
SUMMARY:Discovery Beans - Sitting Babies to Walkers
END:VEVENT
END:VCALENDAR
