BEGIN:VCALENDAR
VERSION:2.0
PRODID:-//Squarespace Inc/Squarespace 6//v6//EN
BEGIN:VEVENT
UID:5fac878069c60d415bd596a3@squarespace.com
DTSTAMP:20201112T231011Z
DTSTART:20201214T000000Z
DTEND:20201215T004000Z
SUMMARY:Discovery Beans - Sitting Babies to Walkers
END:VEVENT
END:VCALENDAR
