BEGIN:VCALENDAR
VERSION:2.0
PRODID:-//Squarespace Inc/Squarespace 6//v6//EN
BEGIN:VEVENT
UID:5fac864f54d7bd32ba94274c@squarespace.com
DTSTAMP:20201112T230345Z
DTSTART:20201130T000000Z
DTEND:20201201T004000Z
SUMMARY:Discovery Beans - Sitting Babies to Walkers
END:VEVENT
END:VCALENDAR
