BEGIN:VCALENDAR
VERSION:2.0
PRODID:-//Squarespace Inc/Squarespace 6//v6//EN
BEGIN:VEVENT
UID:5f88a4b684f6a00681921991@squarespace.com
DTSTAMP:20201015T193708Z
DTSTART:20201018T223000Z
DTEND:20201018T233000Z
SUMMARY:Tea &amp\; Tummy Time
END:VEVENT
END:VCALENDAR
