BEGIN:VCALENDAR
VERSION:2.0
PRODID:-//Squarespace Inc/Squarespace 6//v6//EN
BEGIN:VEVENT
UID:5f8e1fb85818874f7182f843@squarespace.com
DTSTAMP:20201019T232320Z
DTSTART:20201028T052000Z
DTEND:20201028T060000Z
SUMMARY:Dance FUNdamentals 
END:VEVENT
END:VCALENDAR
