BEGIN:VCALENDAR
VERSION:2.0
PRODID:-//Squarespace Inc/Squarespace 6//v6//EN
BEGIN:VEVENT
UID:5f8e200cc9e1691d59d011ac@squarespace.com
DTSTAMP:20201020T000908Z
DTSTART:20201104T052000Z
DTEND:20201104T060000Z
SUMMARY:Dance FUNdamentals
END:VEVENT
END:VCALENDAR
