BEGIN:VCALENDAR
VERSION:2.0
PRODID:-//Squarespace Inc/Squarespace 6//v6//EN
BEGIN:VEVENT
UID:5f8e203a5818874f718309dc@squarespace.com
DTSTAMP:20201020T000831Z
DTSTART:20201111T052000Z
DTEND:20201111T060000Z
SUMMARY:Dance FUNdamentals
END:VEVENT
END:VCALENDAR
