BEGIN:VCALENDAR
VERSION:2.0
PRODID:-//Squarespace Inc/Squarespace 6//v6//EN
BEGIN:VEVENT
UID:5f8e205e28b161254b2bc770@squarespace.com
DTSTAMP:20201020T000734Z
DTSTART:20201118T052000Z
DTEND:20201118T060000Z
SUMMARY:Dance FUNdamentals
END:VEVENT
END:VCALENDAR
