BEGIN:VCALENDAR
VERSION:2.0
PRODID:-//Squarespace Inc/Squarespace 6//v6//EN
BEGIN:VEVENT
UID:5f8e207c5818874f71830ec1@squarespace.com
DTSTAMP:20201020T000642Z
DTSTART:20201125T052000Z
DTEND:20201125T060000Z
SUMMARY:Dance FUNdamentals
END:VEVENT
END:VCALENDAR
