BEGIN:VCALENDAR
VERSION:2.0
PRODID:-//Squarespace Inc/Squarespace 6//v6//EN
BEGIN:VEVENT
UID:5f8e2099d788cc7fb9c23663@squarespace.com
DTSTAMP:20201020T000556Z
DTSTART:20201202T052000Z
DTEND:20201202T060000Z
SUMMARY:Dance FUNdamentals
END:VEVENT
END:VCALENDAR
