BEGIN:VCALENDAR
VERSION:2.0
PRODID:-//Squarespace Inc/Squarespace 6//v6//EN
BEGIN:VEVENT
UID:5f8e20b82918db700a70575a@squarespace.com
DTSTAMP:20201020T000459Z
DTSTART:20201209T052000Z
DTEND:20201209T060000Z
SUMMARY:Dance FUNdamentals
END:VEVENT
END:VCALENDAR
