BEGIN:VCALENDAR
VERSION:2.0
PRODID:-//Squarespace Inc/Squarespace 6//v6//EN
BEGIN:VEVENT
UID:5f8e20d35b50e1588429dfd4@squarespace.com
DTSTAMP:20201020T000414Z
DTSTART:20201216T052000Z
DTEND:20201216T060000Z
SUMMARY:Dance FUNdamentals
END:VEVENT
END:VCALENDAR
