BEGIN:VCALENDAR
VERSION:2.0
PRODID:-//Squarespace Inc/Squarespace 6//v6//EN
BEGIN:VEVENT
UID:5f8e217c5b50e1588429f871@squarespace.com
DTSTAMP:20201020T001026Z
DTSTART:20201023T230000Z
DTEND:20201023T234000Z
SUMMARY:Dance FUNdamentals
END:VEVENT
END:VCALENDAR
