BEGIN:VCALENDAR
VERSION:2.0
PRODID:-//Squarespace Inc/Squarespace 6//v6//EN
BEGIN:VEVENT
UID:5f8e21e807bb71799567344f@squarespace.com
DTSTAMP:20201020T000925Z
DTSTART:20201030T230000Z
DTEND:20201030T234000Z
SUMMARY:Dance FUNdamentals
END:VEVENT
END:VCALENDAR
