BEGIN:VCALENDAR
VERSION:2.0
PRODID:-//Squarespace Inc/Squarespace 6//v6//EN
BEGIN:VEVENT
UID:5f8e222090e61209aa9cc474@squarespace.com
DTSTAMP:20201020T000844Z
DTSTART:20201106T230000Z
DTEND:20201106T234000Z
SUMMARY:Dance FUNdamentals
END:VEVENT
END:VCALENDAR
