BEGIN:VCALENDAR
VERSION:2.0
PRODID:-//Squarespace Inc/Squarespace 6//v6//EN
BEGIN:VEVENT
UID:5f8e224b6e64ed64cf4e802e@squarespace.com
DTSTAMP:20201020T000749Z
DTSTART:20201113T230000Z
DTEND:20201113T234000Z
SUMMARY:Dance FUNdamentals
END:VEVENT
END:VCALENDAR
