BEGIN:VCALENDAR
VERSION:2.0
PRODID:-//Squarespace Inc/Squarespace 6//v6//EN
BEGIN:VEVENT
UID:5f8e22645b50e158842a1e0e@squarespace.com
DTSTAMP:20201020T000655Z
DTSTART:20201120T230000Z
DTEND:20201120T234000Z
SUMMARY:Dance FUNdamentals
END:VEVENT
END:VCALENDAR
