BEGIN:VCALENDAR
VERSION:2.0
PRODID:-//Squarespace Inc/Squarespace 6//v6//EN
BEGIN:VEVENT
UID:5f8e2285f11ecf3c58d2ae87@squarespace.com
DTSTAMP:20201020T000609Z
DTSTART:20201127T230000Z
DTEND:20201127T234000Z
SUMMARY:Dance FUNdamentals
END:VEVENT
END:VCALENDAR
