BEGIN:VCALENDAR
VERSION:2.0
PRODID:-//Squarespace Inc/Squarespace 6//v6//EN
BEGIN:VEVENT
UID:5f8e229b5b50e158842a2788@squarespace.com
DTSTAMP:20201020T000530Z
DTSTART:20201204T230000Z
DTEND:20201204T234000Z
SUMMARY:Dance FUNdamentals
END:VEVENT
END:VCALENDAR
