BEGIN:VCALENDAR
VERSION:2.0
PRODID:-//Squarespace Inc/Squarespace 6//v6//EN
BEGIN:VEVENT
UID:5f8e22bc5818874f71836a37@squarespace.com
DTSTAMP:20201020T000428Z
DTSTART:20201211T230000Z
DTEND:20201211T234000Z
SUMMARY:Dance FUNdamentals
END:VEVENT
END:VCALENDAR
