BEGIN:VCALENDAR
VERSION:2.0
PRODID:-//Squarespace Inc/Squarespace 6//v6//EN
BEGIN:VEVENT
UID:5f8e22d5d002dc32f3b15bc5@squarespace.com
DTSTAMP:20201020T000348Z
DTSTART:20201218T230000Z
DTEND:20201218T234000Z
SUMMARY:Dance FUNdamentals
END:VEVENT
END:VCALENDAR
