BEGIN:VCALENDAR
VERSION:2.0
PRODID:-//Squarespace Inc/Squarespace 6//v6//EN
BEGIN:VEVENT
UID:601281b8ac62e54e76989a04@squarespace.com
DTSTAMP:20210128T092051Z
DTSTART:20210129T230000Z
DTEND:20210129T234000Z
SUMMARY:Dance FUNdamentals
END:VEVENT
END:VCALENDAR
