BEGIN:VCALENDAR
VERSION:2.0
PRODID:-//Squarespace Inc/Squarespace 6//v6//EN
BEGIN:VEVENT
UID:60128203fb48d053b21a5437@squarespace.com
DTSTAMP:20210128T092141Z
DTSTART:20210205T230000Z
DTEND:20210205T234000Z
SUMMARY:Dance FUNdamentals
END:VEVENT
END:VCALENDAR
