BEGIN:VCALENDAR
VERSION:2.0
PRODID:-//Squarespace Inc/Squarespace 6//v6//EN
BEGIN:VEVENT
UID:5f88a7050a743d29a361fb17@squarespace.com
DTSTAMP:20210104T002244Z
DTSTART:20210117T003000Z
DTEND:20210117T013000Z
SUMMARY:Dad Club - 0-9 Months old
END:VEVENT
END:VCALENDAR
