BEGIN:VCALENDAR
VERSION:2.0
PRODID:-//Squarespace Inc/Squarespace 6//v6//EN
BEGIN:VEVENT
UID:5f88a7a0aad9b013a2f50910@squarespace.com
DTSTAMP:20201015T194951Z
DTSTART:20201017T230000Z
DTEND:20201017T235000Z
SUMMARY:Dad Club
END:VEVENT
END:VCALENDAR
