BEGIN:VCALENDAR
VERSION:2.0
PRODID:-//Squarespace Inc/Squarespace 6//v6//EN
BEGIN:VEVENT
UID:5f88a7e2e9dd726eda01763f@squarespace.com
DTSTAMP:20201015T195013Z
DTSTART:20201018T000000Z
DTEND:20201018T010000Z
SUMMARY:Dad Club
END:VEVENT
END:VCALENDAR
