BEGIN:VCALENDAR
VERSION:2.0
PRODID:-//Squarespace Inc/Squarespace 6//v6//EN
BEGIN:VEVENT
UID:5f88a7f93d3fb2035f57e348@squarespace.com
DTSTAMP:20201015T195036Z
DTSTART:20201018T010000Z
DTEND:20201018T020000Z
SUMMARY:Dad Club
END:VEVENT
END:VCALENDAR
