BEGIN:VCALENDAR
VERSION:2.0
PRODID:-//Squarespace Inc/Squarespace 6//v6//EN
BEGIN:VEVENT
UID:5f8e616d42ce784d0c006188@squarespace.com
DTSTAMP:20210104T002231Z
DTSTART:20210116T233000Z
DTEND:20210117T003000Z
SUMMARY:Dad Club 9-18 Months old
END:VEVENT
END:VCALENDAR
