BEGIN:VCALENDAR
VERSION:2.0
PRODID:-//Squarespace Inc/Squarespace 6//v6//EN
BEGIN:VEVENT
UID:5ff25f9d10ee9f5922a75d53@squarespace.com
DTSTAMP:20210223T081859Z
DTSTART:20210307T003000Z
DTEND:20210307T013000Z
SUMMARY:Dad Club - 0-9 Months old
END:VEVENT
END:VCALENDAR
