BEGIN:VCALENDAR
VERSION:2.0
PRODID:-//Squarespace Inc/Squarespace 6//v6//EN
BEGIN:VEVENT
UID:60127971c831e16f9a52b60f@squarespace.com
DTSTAMP:20210218T194128Z
DTSTART:20210502T013000Z
DTEND:20210502T023000Z
SUMMARY:Dad Club - 0-9 Months old
END:VEVENT
END:VCALENDAR
