BEGIN:VCALENDAR
VERSION:2.0
PRODID:-//Squarespace Inc/Squarespace 6//v6//EN
BEGIN:VEVENT
UID:60127a35c831e16f9a52baa8@squarespace.com
DTSTAMP:20210223T081830Z
DTSTART:20210627T013000Z
DTEND:20210627T023000Z
SUMMARY:Dad Club - 0-9 Months old
END:VEVENT
END:VCALENDAR
