BEGIN:VCALENDAR
VERSION:2.0
PRODID:-//Squarespace Inc/Squarespace 6//v6//EN
BEGIN:VEVENT
UID:5f88aef17c0516224b3740b4@squarespace.com
DTSTAMP:20201112T011107Z
DTSTART:20201113T233000Z
DTEND:20201114T013000Z
SUMMARY:Breastfeeding Workshop
END:VEVENT
END:VCALENDAR
