BEGIN:VCALENDAR
VERSION:2.0
PRODID:-//Squarespace Inc/Squarespace 6//v6//EN
BEGIN:VEVENT
UID:5f88afd5600b2f18e9d4710e@squarespace.com
DTSTAMP:20201112T011126Z
DTSTART:20201214T083000Z
DTEND:20201214T103000Z
SUMMARY:Breastfeeding Workshop
END:VEVENT
END:VCALENDAR
