BEGIN:VCALENDAR
VERSION:2.0
PRODID:-//Squarespace Inc/Squarespace 6//v6//EN
BEGIN:VEVENT
UID:5f8e63b1e1de6b067055e21a@squarespace.com
DTSTAMP:20210104T040318Z
DTSTART:20210115T233000Z
DTEND:20210116T013000Z
SUMMARY:Breastfeeding Workshop
END:VEVENT
END:VCALENDAR
