BEGIN:VCALENDAR
VERSION:2.0
PRODID:-//Squarespace Inc/Squarespace 6//v6//EN
BEGIN:VEVENT
UID:5f8e63ee23447922ce10b945@squarespace.com
DTSTAMP:20210104T040031Z
DTSTART:20210221T033000Z
DTEND:20210221T053000Z
SUMMARY:Breastfeeding Workshop
END:VEVENT
END:VCALENDAR
