BEGIN:VCALENDAR
VERSION:2.0
PRODID:-//Squarespace Inc/Squarespace 6//v6//EN
BEGIN:VEVENT
UID:5ff292430f967946050f0c2f@squarespace.com
DTSTAMP:20210222T084832Z
DTSTART:20210320T033000Z
DTEND:20210320T053000Z
SUMMARY:Breastfeeding Workshop
END:VEVENT
END:VCALENDAR
