BEGIN:VCALENDAR
VERSION:2.0
PRODID:-//Squarespace Inc/Squarespace 6//v6//EN
BEGIN:VEVENT
UID:601276f0cd645841fe7ccf03@squarespace.com
DTSTAMP:20210128T083439Z
DTSTART:20210417T003000Z
DTEND:20210417T023000Z
SUMMARY:Breastfeeding Workshop
END:VEVENT
END:VCALENDAR
