BEGIN:VCALENDAR
VERSION:2.0
PRODID:-//Squarespace Inc/Squarespace 6//v6//EN
BEGIN:VEVENT
UID:6012772872f3b96436d2fc9b@squarespace.com
DTSTAMP:20210128T083525Z
DTSTART:20210530T043000Z
DTEND:20210530T063000Z
SUMMARY:Breastfeeding Workshop
END:VEVENT
END:VCALENDAR
