BEGIN:VCALENDAR
VERSION:2.0
PRODID:-//Squarespace Inc/Squarespace 6//v6//EN
BEGIN:VEVENT
UID:60127756b180c028f1e6ac5d@squarespace.com
DTSTAMP:20210128T083605Z
DTSTART:20210626T003000Z
DTEND:20210626T023000Z
SUMMARY:Breastfeeding Workshop
END:VEVENT
END:VCALENDAR
