BEGIN:VCALENDAR
VERSION:2.0
PRODID:-//Squarespace Inc/Squarespace 6//v6//EN
BEGIN:VEVENT
UID:6012777c8596875be50128ad@squarespace.com
DTSTAMP:20210128T083703Z
DTSTART:20210724T003000Z
DTEND:20210724T023000Z
SUMMARY:Breastfeeding Workshop
END:VEVENT
END:VCALENDAR
