BEGIN:VCALENDAR
VERSION:2.0
PRODID:-//Squarespace Inc/Squarespace 6//v6//EN
BEGIN:VEVENT
UID:5f9fd1815578154aa8995e1c@squarespace.com
DTSTAMP:20201102T225303Z
DTSTART:20201117T090000Z
DTEND:20201117T100000Z
SUMMARY:Motherhood Meditation
END:VEVENT
END:VCALENDAR
