BEGIN:VCALENDAR
VERSION:2.0
PRODID:-//Squarespace Inc/Squarespace 6//v6//EN
BEGIN:VEVENT
UID:5f8e2307d9a86a5bd6abaf4d@squarespace.com
DTSTAMP:20201019T233759Z
DTSTART:20201029T010000Z
DTEND:20201029T023000Z
SUMMARY:Baby Massage
END:VEVENT
END:VCALENDAR
