BEGIN:VCALENDAR
VERSION:2.0
PRODID:-//Squarespace Inc/Squarespace 6//v6//EN
BEGIN:VEVENT
UID:5f8e235b6e64ed64cf4eac49@squarespace.com
DTSTAMP:20201019T233851Z
DTSTART:20201029T030000Z
DTEND:20201029T043000Z
SUMMARY:Baby Massage
END:VEVENT
END:VCALENDAR
