BEGIN:VCALENDAR
VERSION:2.0
PRODID:-//Squarespace Inc/Squarespace 6//v6//EN
BEGIN:VEVENT
UID:5fd5db34164d0f203c6e81c0@squarespace.com
DTSTAMP:20201213T091537Z
DTSTART:20210204T020000Z
DTEND:20210204T033000Z
SUMMARY:Baby Massage
END:VEVENT
END:VCALENDAR
