BEGIN:VCALENDAR
VERSION:2.0
PRODID:-//Squarespace Inc/Squarespace 6//v6//EN
BEGIN:VEVENT
UID:5fa08dcfe72ea2331d068560@squarespace.com
DTSTAMP:20201102T230456Z
DTSTART:20201121T000000Z
DTEND:20201121T020000Z
SUMMARY:Family First Aid
END:VEVENT
END:VCALENDAR
