BEGIN:VCALENDAR
VERSION:2.0
PRODID:-//Squarespace Inc/Squarespace 6//v6//EN
BEGIN:VEVENT
UID:5fa09050ed792d738728cd54@squarespace.com
DTSTAMP:20201102T230436Z
DTSTART:20201212T233000Z
DTEND:20201213T013000Z
SUMMARY:Family First Aid
END:VEVENT
END:VCALENDAR
