BEGIN:VCALENDAR
VERSION:2.0
PRODID:-//Squarespace Inc/Squarespace 6//v6//EN
BEGIN:VEVENT
UID:5fd5ec6f96ed101a3e34ab19@squarespace.com
DTSTAMP:20210113T032851Z
DTSTART:20210123T003000Z
DTEND:20210123T023000Z
SUMMARY:Family First Aid
END:VEVENT
END:VCALENDAR
