BEGIN:VCALENDAR
VERSION:2.0
PRODID:-//Squarespace Inc/Squarespace 6//v6//EN
BEGIN:VEVENT
UID:5fd5ecaa491a58544a053448@squarespace.com
DTSTAMP:20210113T033024Z
DTSTART:20210206T003000Z
DTEND:20210206T023000Z
SUMMARY:Family First Aid
END:VEVENT
END:VCALENDAR
